BEGIN:VCALENDAR
VERSION:2.0
PRODID:-//Core Energetics Polska - ECPv5.2.1.1//NONSGML v1.0//EN
CALSCALE:GREGORIAN
METHOD:PUBLISH
X-WR-CALNAME:Core Energetics Polska
X-ORIGINAL-URL:https://coreenergeticspolska.com
X-WR-CALDESC:Events for Core Energetics Polska
BEGIN:VTIMEZONE
TZID:Europe/Warsaw
BEGIN:DAYLIGHT
TZOFFSETFROM:+0100
TZOFFSETTO:+0200
TZNAME:CEST
DTSTART:20260329T010000
END:DAYLIGHT
BEGIN:STANDARD
TZOFFSETFROM:+0200
TZOFFSETTO:+0100
TZNAME:CET
DTSTART:20261025T010000
END:STANDARD
END:VTIMEZONE
BEGIN:VEVENT
DTSTART;TZID=Europe/Warsaw:20260522T150000
DTEND;TZID=Europe/Warsaw:20260524T153000
DTSTAMP:20260421T145427
CREATED:20260419T153307Z
LAST-MODIFIED:20260419T154303Z
UID:5355-1779462000-1779636600@coreenergeticspolska.com
SUMMARY:INTRO TO CORE ENERGETICS
DESCRIPTION: If you feel that a classic conversation isn’t enough. If you’re interested in psychotherapy that embraces the whole person – body\, emotions\, relationships\, and the spiritual dimension. If you want to find out whether Core Energetics is for you – this workshop is the best place to experience it. \n\nIntro to Core Energetics is a workshop designed to provide a hands-on introduction to the method\, its theoretical framework\, and the therapeutic style of working.\nDuring this meeting\, we will present the theoretical foundations and practical approaches of Core Energetics – an integrative psychotherapeutic approach rooted in analytical psychology\, humanistic–existential psychotherapy\, and bodywork (bioenergetics).\nThe workshop is an opportunity to understand the core premises of the model\, its theoretical structure\, and the way the therapeutic process is conducted from an energetic and characterological perspective.\n\nThe Core Energetics model assumes that developmental and relational experiences are organized within the body in the form of chronic tensions and energetic patterns\, which co‑create the structure of personality. Therapeutic work involves identifying these patterns\, bringing them to awareness\, and transforming them through the integration of emotional\, cognitive\, and somatic experiences. \n\n During the workshop:\nWe will present the key concepts of the method (map of consciousness\, mask / false self\, lower and higher self\, character structures).\nWe will demonstrate the specifics of bodywork in the therapeutic process.\nWe will discuss the role of working with aggression\, sexuality\, and life energy in a clinical context.\nParticipants will have the opportunity to experience elements of this work in a safe\, workshop-based environment.\n\nWe will answer questions about training and the certification path. \n\n The workshop also offers the opportunity to:– Experience body and energy work.– See what a therapeutic process looks like in this method.– Feel the dynamics of group work.– Ask questions about the approach and possibilities for further education.\n\n Why Core Energetics?Core Energetics is a psychotherapeutic approach that originates from depth psychology and bodywork. Its foundation is the belief that life experiences are recorded not only in the mind but also in the body – as tensions\, blocks\, and energetic patterns.\nThe work integrates multiple levels of experience:\nHolistically – by bringing together mind\, body\, and spirit.\nThrough the body – using movement\, breath\, and expression to reach deeper emotional layers.\nWith the energy of emotions – learning to recognize\, express\, and transform feelings such as anger\, shame\, jealousy\, fear\, or contempt.\nWith sexuality and vitality – restoring connection with life energy and spontaneity.\nWith body image – fostering greater acceptance and authenticity.\nWith relationality – enhancing the ability to feel closeness and communicate sincerely.\nWorking with the Core Energetics approach leads to greater spontaneity\, inner freedom\, and emotional maturity. It is a method that not only helps to understand one’s inner experience but also supports its transformation.\n\n\n Who is this workshop for?This workshop is intended for:– Individuals considering beginning professional training in Core Energetics.– Those thinking about starting psychotherapy and wishing to check if this method suits them.– Psychologists\, psychotherapists\, and trainees in therapeutic programs.– People working with others who want to broaden their experience with bodywork.– Students of helping professions.– Anyone interested in deep personal growth. \n\n\n InvitationIf you’re looking for an approach that blends clinical insight with somatic awareness and an understanding of the energetic structure of personality – this workshop will be a fitting introduction.If you feel curious – that’s reason enough to join.You are warmly invited. \n\n ORGANIZATIONAL DETAILSWHEN? – May 22–24\, 2026WHERE? – Training and Recreation Center EMAJ SMARDZEWICE (in Smardzewice\, by Lake Sulejowskie)INVESTMENT – PLN 1000 for the workshop\, plus accommodation costs paid directly to the venue (~PLN 550 for a single room from Friday dinner to Sunday lunch).\n\nA place is reserved upon payment of a non‑refundable deposit of PLN 400 and registration by email at szkolenie@coreenergeticspolska.com.Seat reservation is determined by the order of payments received.\nRegistration deadline: May 15\, 2026. \n\n\nPolish Institute of Core EnergeticsBank ING PL 77 1050 1070 1000 0090 8391 2247 \nIf you later join the Core Energetics Training\, the workshop fee (PLN 1000) will be deducted from the initial enrollment payment. \n\n\n WORKSHOP SCHEDULE\nFriday\, May 22\, 2026Leaders: Elizabeth Carl – Director of the Polish Institute of Core Energetics\, and Hana HniličkováAssistant: Daria Błotnicka15:00–18:00 – Intro sessions\, welcome18:00–19:00 – Dinner19:00–21:00 – Intro sessions \n\n\nSaturday\, May 23\, 2026Leaders: Martin Nykodym\, Hana HniličkováAssistant: Daria Błotnicka7:45–8:30 – Bodywork8:30–9:30 – Breakfast9:30–13:00 – Intro sessions13:00–15:00 – Lunch15:00–18:00 – Intro sessions18:00–19:00 – DinnerFrom 19:15 – Graduation evening \n\nSunday\, May 24\, 2026Leaders: Martin Nykodym\, Hana HniličkováAssistant: Daria Błotnicka7:30–8:00 – Bodywork8:00–9:00 – Breakfast9:00–13:00 – Intro sessions13:00–14:00 – Lunch14:00–15:30 – Closing session\n\nRegistration and detailed info: szkolenie@coreenergeticspolska.com\nThe workshop will be conducted in English with professional Polish translation. \n\n\n HOW TO GET THEREParticipants arrange their own transportation. \nBY CAR:The location is accessible by car\, and parking is available for guests.Address: Ośrodek EMAJ\, ul. Klonowa 14\, SmardzewiceGoogle Maps link \n\nBY TRAIN:Destination station: Tomaszów Mazowiecki.From PKP/PKS station\, take bus no. 40 and get off at Smardzewice Główna Południowa.You can also take a taxi from the train station. If needed\, contact us – we cooperate with a local taxi driver.\nBY BUS:Check if FlixBus or other carriers stop at Tomaszów Mazowiecki.\n\n FACILITATORSMartin NykodymCertified Core Energetics psychotherapist. He completed his training at the Netherlands Institute in 2016. Since then\, he has been working individually and with groups in Brno and Krakow (PL). Since 2017\, he has actively collaborated with the Polish Institute of Core Energetics.\nHana HniličkováPrague\, Czech Republic | I gained experience in Core Energetics through four years of professional studies at the Netherlands Institute of Core Energetics (NICE)\, graduating in 2020. I currently work as an assistant at the Institute of Core Energetics Greece (ICEG) in Athens. I am also a local organizer and participant of the Core Strokes® training\, developed by Dirk Marivoet\, MSc\, from Belgium.\nStudying abroad and working in an international environment gave me deep insight into people within their cultural contexts. Each culture shapes our personality in its own way\, yet at the deepest level\, we all share similar longings\, desires\, and needs. My mission is to help people reach and connect with these deep inner places\, to know them\, and to allow their expression. I believe this brings a sense of fulfillment and inner peace that we all long for.\nIn 2022\, I opened Slunná 27 — a therapeutic center in Prague. Together with more than twenty therapists\, we create a space where clients can rediscover safety on their journey toward their true\, authentic Self and inner freedom.\nAssistant: Daria BłotnickaA neurobiologist by education and Core Energetics psychotherapist and trainer by vocation. She completed the Core Energetics training in 2024\, enriching it with advanced workshops on trauma\, sexuality\, and relationships.\nShe is fascinated by the link between brain science and the wisdom of the body. In her workshops\, she creates a safe space for emotional release\, often including voice and movement work. She loves nature and sports\, which give her strength to support others in their growth.
URL:https://coreenergeticspolska.com/wydarzenie/intro-to-core-energetics/
LOCATION:Inwest Smardzewice\, Kolonowa\, Smardzewice
END:VEVENT
END:VCALENDAR