BEGIN:VCALENDAR
VERSION:2.0
PRODID:-//Core Energetics Polska - ECPv5.2.1.1//NONSGML v1.0//EN
CALSCALE:GREGORIAN
METHOD:PUBLISH
X-WR-CALNAME:Core Energetics Polska
X-ORIGINAL-URL:https://coreenergeticspolska.com
X-WR-CALDESC:Wydarzenia na Core Energetics Polska
BEGIN:VTIMEZONE
TZID:Europe/Warsaw
BEGIN:DAYLIGHT
TZOFFSETFROM:+0100
TZOFFSETTO:+0200
TZNAME:CEST
DTSTART:20260329T010000
END:DAYLIGHT
BEGIN:STANDARD
TZOFFSETFROM:+0200
TZOFFSETTO:+0100
TZNAME:CET
DTSTART:20261025T010000
END:STANDARD
BEGIN:DAYLIGHT
TZOFFSETFROM:+0100
TZOFFSETTO:+0200
TZNAME:CEST
DTSTART:20270328T010000
END:DAYLIGHT
BEGIN:STANDARD
TZOFFSETFROM:+0200
TZOFFSETTO:+0100
TZNAME:CET
DTSTART:20271031T010000
END:STANDARD
BEGIN:DAYLIGHT
TZOFFSETFROM:+0100
TZOFFSETTO:+0200
TZNAME:CEST
DTSTART:20280326T010000
END:DAYLIGHT
BEGIN:STANDARD
TZOFFSETFROM:+0200
TZOFFSETTO:+0100
TZNAME:CET
DTSTART:20281029T010000
END:STANDARD
END:VTIMEZONE
BEGIN:VEVENT
DTSTART;TZID=Europe/Warsaw:20261113T173000
DTEND;TZID=Europe/Warsaw:20280614T173000
DTSTAMP:20260421T175215
CREATED:20260419T160422Z
LAST-MODIFIED:20260419T160713Z
UID:5360-1794591000-1844616600@coreenergeticspolska.com
SUMMARY:Program transformacyjny Core Energetics
DESCRIPTION:TEN PROGRAM JEST DLA CIEBIE JEŚLI: tęsknisz za życiem pełnią życia\, świadomie i w zgodzie ze sobą jesteś gotów na zmianę swoich schematów zachowania\, starych przekonań i otwarcie się na bardziej autentyczną relację ze sobą i innymichcesz kreować swoje życie w zgodzie ze swoim sercem i adekwatnie do swojego potencjału \n\nZapraszamy do udziału w dwuletnim programie głębokiego rozwoju osobistego\, opartym na metodzie Core Energetics.Core Energetics to holistyczne podejście terapeutyczne\, bazujące na pracy z ciałem\, emocjami\, umysłem oraz duchowością.\n\nWśród narzędzi terapeutycznych Core Energetics są: praca z ciałem\, praktykowanie uważności i wglądu nastawionego na eksplorację mechanizmów obronnych; praca z blokadami energetycznymi i napięciami w ciele. W konsekwencji\, uczymy się bycia obecnymi w ciele nawet w sytuacjach kryzysowych i nabieramy umiejętności radzenia sobie ze stresem. \n\nIntegralną częścią procesu Core Energetics jest praca z przekonaniami\, które\, kiedy pozostają nieuświadomione\, z „tylnego siedzenia” kierują naszym życiem\, powodując odtwarzanie nieadaptacyjnych schematów myślenia i działania.\n\nJak wygląda Program?\nProgram trwa 2 lata i obejmuje 14 weekendowych zjazdów (piątek – niedziela) i jeden podwójny intensywny 5 – dniowy zjazd (15. i 16. zjazd) na koniec 2. roku (środa – niedziela) w ramach stałej\, zamkniętej grupy.\nNa każdym zjeździe odbywają się zajęcia obejmujące:• pracę z ciałem poprzez ruch\, tak aby poruszyć naszą energię życiową\, a w konsekwencji rozpuścić blokady i zwiększyć przepływ energetyczny w ciele• procesy emocjonalne i relacyjne• ćwiczenia w grupie\, podgrupach i indywidualne• psychoedukację (w oparciu o psychologię\, podstawowe koncepcje Core Energetics oraz Pathwork\, bioenergetykę\, pracę z systemem energetycznym człowieka).Uczestnicy zapraszani są do bezpiecznej wspierającej przestrzeni prowadzonej przez doświadczony zespół nauczycieli i terapeutów.\n\nJak to się przekłada na korzyści w życiu codziennym?\n– wzrost pewności siebie. co oznacza dostęp do wewnętrznej siły\, autentyczności i radości\,– większa łatwość podejmowania decyzji– większa łatwości wchodzenia w relacje– umiejętność efektywnego komunikowania w relacjach osobistych i zawodowych– wzrost samoświadomości – lepiej zrozumiesz siebie\, swoje reakcje\, potrzeby i granice.– większa umiejętność stawiania granic– znaczne zmniejszenie napięć w ciele\, czyli mniej bólu a więcej swobody i przyjemności w życiu– pogłębiona relacja z duchowością (na własnych warunkach)– klarowność wizji i możliwości planowania kolejnych kroków w życiu– poszerzenie świadomości i doświadczenie transformacji na wszystkich poziomach: fizycznym\, umysłowym\, emocjonalnym i duchowym\n\nWcześniejsze doświadczenie w Core Energetics nie jest potrzebne\, wystarczy wewnętrzna gotowość do wyruszenia na drogę pogłębionego rozwoju. Jeżeli masz już doświadczenie z CE lub metodą Pathwork\, ten program pomoże Ci je ugruntować i usystematyzować.\nCore Energetics PolskaRuch * Świadomość * Transformacja.\n\nGDZIE: Galeria Duszy\, ul. Smulikowskiego 10/2\, Warszawa \n\n\nKIEDY:\nI rok:1 Moduł: 13-15 listopad 20262 Moduł: 18-20 grudzień 20263 Moduł: 29-30 styczeń 20274 Moduł: 5-7 marzec 20275 Moduł: 23-25 kwiecień 20276 Moduł: 28-30 maj 20277 Moduł: 18-20 czerwiec 20278 Moduł: 17-19 wrzesień 2027 \n\n\n\nII rok:9. Moduł: 22-24 październik 202710. Moduł:10-12 grudzień 202711. Moduł: 28-30 styczeń 202812. Moduł: 24-26 marzec 202813. Moduł: 21-23 kwiecień 202814. Moduł: 12-14 maj 202815 i 16 Moduł: 14-18 czerwiec 2028 \n\nCZAS:piątek 17:30 – 20:30\, sobota 10:00 – 18:00\, niedziela 9:00 – 16:00\nOstatni zjazd 2. roku (15 i 16 moduł):środa 17:30 – 20:30\, czwartek-sobota 10:00-18:00\, niedziela 9:00 – 15:00.\nINWESTYCJA: 1500 PLN płatne za każdy moduł lub 11 000 PLN płatne jednorazowo (za każdy rok z góry).\nWymagana rozmowa kwalifikacyjna.\n\n\nKONTAKT:tel. +48 697 101 474 • przy braku odpowiedzi proszę o SMSemail: program@coreenergeticspolska.com \n\nTO MOŻE BYĆ POCZĄTEK NAJWAŻNIEJSZEJ PODRÓŻY W TWOIM ŻYCIU 
URL:https://coreenergeticspolska.com/wydarzenie/program-transformacyjny-core-energetics/
LOCATION:Galeria Duszy\, ul. Juliana Smulikowskiego 10/2\, Warszawa\, mazowieckie\, 00-389\, Poland
END:VEVENT
END:VCALENDAR