BEGIN:VCALENDAR
VERSION:2.0
PRODID:-//Core Energetics Polska - ECPv5.2.1.1//NONSGML v1.0//EN
CALSCALE:GREGORIAN
METHOD:PUBLISH
X-WR-CALNAME:Core Energetics Polska
X-ORIGINAL-URL:https://coreenergeticspolska.com
X-WR-CALDESC:Wydarzenia na Core Energetics Polska
BEGIN:VTIMEZONE
TZID:Europe/Warsaw
BEGIN:DAYLIGHT
TZOFFSETFROM:+0100
TZOFFSETTO:+0200
TZNAME:CEST
DTSTART:20190331T010000
END:DAYLIGHT
BEGIN:STANDARD
TZOFFSETFROM:+0200
TZOFFSETTO:+0100
TZNAME:CET
DTSTART:20191027T010000
END:STANDARD
END:VTIMEZONE
BEGIN:VEVENT
DTSTART;VALUE=DATE:20190510
DTEND;VALUE=DATE:20190513
DTSTAMP:20260424T183844
CREATED:20181205T174423Z
LAST-MODIFIED:20190616T140447Z
UID:3474-1557446400-1557705599@coreenergeticspolska.com
SUMMARY:Warsztat dla Par (odwołany)
DESCRIPTION:GŁĘBOKA WIĘŹ ZE SOBĄ SAMYM I W TWOIM ZWIĄZKU\n\n\nWszyscy rozpoczynamy nasze relacje z myślą o głębokiej więzi z partnerem. Chcemy być zauważani i kochani. Pragniemy również być docenieni i akceptowani przez naszego partnera. Prawdziwa potrzeba głębokiej relacji jest często mieszana z fałszywymi potrzebami\, co prowadzi do stawiania partnerowi żądań.\nTego typu fałszywe potrzeby zakorzenione są w naszym dzieciństwie i częstokroć nie jesteśmy ich świadomi.\nCzęsto też tworzymy w relacjach nieświadome kontrakty\, gdzie oczekujemy czegoś w zamian za otwarcie się i pokazanie wrażliwości. Im bardziej się otwieramy\, tym mocniej potrzebujemy poczucia\, że ktoś się o nas troszczy.\n\nCzęsto partner nie spełnia naszych oczekiwań\, co prowadzi do wewnętrznej frustracji. Reagujemy wtedy zdenerwowaniem\, krytyką\, obwinianiem\, krzykiem\, oburzaniem się i wycofaniem.\nJest bardzo ważne\, żeby odróżnić dojrzałe (prawdziwe) potrzeby od niedojrzałych (fałszywych). Niedojrzałe potrzeby to te\, które nie zostały zaspokojone w dzieciństwie i z czasem przeistoczyły się w oczekiwania i pretensje.\nNa tych warsztatach oferujemy wiele różnych ćwiczeń bazujących na pracy z ciałem i energią\, które przybliżą Wam ten temat. Naszym celem jest pomóc Wam w rozróżnieniu potrzeb prawdziwych od fałszywych i poszukiwaniu nowych możliwości. Stworzenie wyraźnych granic i wzięcie odpowiedzialności\, które jest niezbędne dla osiągnięcia  samospełnienia\, co z kolei prowadzi do głębszej więzi w relacji.\n\nHARMONOGRAM: \nwarsztat jest 2\,5 dniowy:\npiątek: 19-21:30\nsobota : 10:00-13:00/15:00-18:00\nniedziela: 10:00-13:00/14:30-17:30\n\n\nPROWADZĄCY :\nANNA THIMMERMANS – prowadzi prywatną praktykę od ponad 30 lat. Jest certyfikowanym terapeutą w nurcie Analizy Bioenergetycznej oraz  Core Energetics. Ukończyła studia podyplomowe w Nowym Yorku. Jest dyrektorem Holenderskiego Instytutu Core EneUrgetics (NICE) .\nCEES VAN LOON  – przez długi czas pracował jako menadżer i konsultant. Zmienił zawód 7 lat temu \, po ukończeniu szkolenia Core Energetics w Nowym Jorku. Wykłada w Holenderksim Instytucie Core Energetics\n\n\n\nINFO & ZAPISY:\nZ przyczyn niezależnych warsztat został odwołany. W przypadku zainteresowania tematyką prosimy o kontakt.
URL:https://coreenergeticspolska.com/wydarzenie/warsztat-dla-par/
LOCATION:Sopot
CATEGORIES:Warsztat
ATTACH;FMTTYPE=image/png:https://coreenergeticspolska.com/wp-content/uploads/2019/01/51034497_2343130982590396_978825589379039232_n.png
END:VEVENT
END:VCALENDAR